BEGIN:VCALENDAR
VERSION:2.0
PRODID:-//Town Of Necedah - ECPv6.8.2.1//NONSGML v1.0//EN
CALSCALE:GREGORIAN
METHOD:PUBLISH
X-WR-CALNAME:Town Of Necedah
X-ORIGINAL-URL:https://townofnecedah.com
X-WR-CALDESC:Events for Town Of Necedah
REFRESH-INTERVAL;VALUE=DURATION:PT1H
X-Robots-Tag:noindex
X-PUBLISHED-TTL:PT1H
BEGIN:VTIMEZONE
TZID:UTC
BEGIN:STANDARD
TZOFFSETFROM:+0000
TZOFFSETTO:+0000
TZNAME:UTC
DTSTART:20280101T000000
END:STANDARD
END:VTIMEZONE
BEGIN:VEVENT
DTSTART;TZID=UTC:20280214T183000
DTEND;TZID=UTC:20280214T200000
DTSTAMP:20260421T171213
CREATED:20251014T063007Z
LAST-MODIFIED:20250812T184758Z
UID:10000779-1834165800-1834171200@townofnecedah.com
SUMMARY:Town Board Meeting
DESCRIPTION:
URL:https://townofnecedah.com/events/town-board-meeting-2/2028-02-14/
LOCATION:Necedah Town Hall
END:VEVENT
BEGIN:VEVENT
DTSTART;TZID=UTC:20280313T183000
DTEND;TZID=UTC:20280313T200000
DTSTAMP:20260421T171213
CREATED:20251014T063007Z
LAST-MODIFIED:20250812T184758Z
UID:10000780-1836585000-1836590400@townofnecedah.com
SUMMARY:Town Board Meeting
DESCRIPTION:
URL:https://townofnecedah.com/events/town-board-meeting-2/2028-03-13/
LOCATION:Necedah Town Hall
END:VEVENT
BEGIN:VEVENT
DTSTART;TZID=UTC:20280410T183000
DTEND;TZID=UTC:20280410T200000
DTSTAMP:20260421T171213
CREATED:20251014T063007Z
LAST-MODIFIED:20250812T184758Z
UID:10000781-1839004200-1839009600@townofnecedah.com
SUMMARY:Town Board Meeting
DESCRIPTION:
URL:https://townofnecedah.com/events/town-board-meeting-2/2028-04-10/
LOCATION:Necedah Town Hall
END:VEVENT
BEGIN:VEVENT
DTSTART;TZID=UTC:20280508T183000
DTEND;TZID=UTC:20280508T200000
DTSTAMP:20260421T171213
CREATED:20251014T063007Z
LAST-MODIFIED:20250812T184758Z
UID:10000782-1841423400-1841428800@townofnecedah.com
SUMMARY:Town Board Meeting
DESCRIPTION:
URL:https://townofnecedah.com/events/town-board-meeting-2/2028-05-08/
LOCATION:Necedah Town Hall
END:VEVENT
BEGIN:VEVENT
DTSTART;TZID=UTC:20280612T183000
DTEND;TZID=UTC:20280612T200000
DTSTAMP:20260421T171213
CREATED:20251014T063007Z
LAST-MODIFIED:20250812T184758Z
UID:10000783-1844447400-1844452800@townofnecedah.com
SUMMARY:Town Board Meeting
DESCRIPTION:
URL:https://townofnecedah.com/events/town-board-meeting-2/2028-06-12/
LOCATION:Necedah Town Hall
END:VEVENT
BEGIN:VEVENT
DTSTART;TZID=UTC:20280710T183000
DTEND;TZID=UTC:20280710T200000
DTSTAMP:20260421T171213
CREATED:20251014T063007Z
LAST-MODIFIED:20250812T184758Z
UID:10000784-1846866600-1846872000@townofnecedah.com
SUMMARY:Town Board Meeting
DESCRIPTION:
URL:https://townofnecedah.com/events/town-board-meeting-2/2028-07-10/
LOCATION:Necedah Town Hall
END:VEVENT
BEGIN:VEVENT
DTSTART;TZID=UTC:20280814T183000
DTEND;TZID=UTC:20280814T200000
DTSTAMP:20260421T171213
CREATED:20251014T063007Z
LAST-MODIFIED:20250812T184758Z
UID:10000785-1849890600-1849896000@townofnecedah.com
SUMMARY:Town Board Meeting
DESCRIPTION:
URL:https://townofnecedah.com/events/town-board-meeting-2/2028-08-14/
LOCATION:Necedah Town Hall
END:VEVENT
BEGIN:VEVENT
DTSTART;TZID=UTC:20280911T183000
DTEND;TZID=UTC:20280911T200000
DTSTAMP:20260421T171213
CREATED:20251014T063007Z
LAST-MODIFIED:20250812T184758Z
UID:10000786-1852309800-1852315200@townofnecedah.com
SUMMARY:Town Board Meeting
DESCRIPTION:
URL:https://townofnecedah.com/events/town-board-meeting-2/2028-09-11/
LOCATION:Necedah Town Hall
END:VEVENT
BEGIN:VEVENT
DTSTART;TZID=UTC:20281009T183000
DTEND;TZID=UTC:20281009T200000
DTSTAMP:20260421T171213
CREATED:20251014T063007Z
LAST-MODIFIED:20250812T184758Z
UID:10000787-1854729000-1854734400@townofnecedah.com
SUMMARY:Town Board Meeting
DESCRIPTION:
URL:https://townofnecedah.com/events/town-board-meeting-2/2028-10-09/
LOCATION:Necedah Town Hall
END:VEVENT
BEGIN:VEVENT
DTSTART;TZID=UTC:20281113T183000
DTEND;TZID=UTC:20281113T200000
DTSTAMP:20260421T171213
CREATED:20251014T063007Z
LAST-MODIFIED:20250812T184758Z
UID:10000788-1857753000-1857758400@townofnecedah.com
SUMMARY:Town Board Meeting
DESCRIPTION:
URL:https://townofnecedah.com/events/town-board-meeting-2/2028-11-13/
LOCATION:Necedah Town Hall
END:VEVENT
BEGIN:VEVENT
DTSTART;TZID=UTC:20281211T183000
DTEND;TZID=UTC:20281211T200000
DTSTAMP:20260421T171213
CREATED:20251014T063007Z
LAST-MODIFIED:20250812T184758Z
UID:10000789-1860172200-1860177600@townofnecedah.com
SUMMARY:Town Board Meeting
DESCRIPTION:
URL:https://townofnecedah.com/events/town-board-meeting-2/2028-12-11/
LOCATION:Necedah Town Hall
END:VEVENT
BEGIN:VEVENT
DTSTART;TZID=UTC:20290108T183000
DTEND;TZID=UTC:20290108T200000
DTSTAMP:20260421T171213
CREATED:20251014T063007Z
LAST-MODIFIED:20250812T184758Z
UID:10000790-1862591400-1862596800@townofnecedah.com
SUMMARY:Town Board Meeting
DESCRIPTION:
URL:https://townofnecedah.com/events/town-board-meeting-2/2029-01-08/
LOCATION:Necedah Town Hall
END:VEVENT
BEGIN:VEVENT
DTSTART;TZID=UTC:20290212T183000
DTEND;TZID=UTC:20290212T200000
DTSTAMP:20260421T171213
CREATED:20251014T063007Z
LAST-MODIFIED:20250812T184758Z
UID:10000791-1865615400-1865620800@townofnecedah.com
SUMMARY:Town Board Meeting
DESCRIPTION:
URL:https://townofnecedah.com/events/town-board-meeting-2/2029-02-12/
LOCATION:Necedah Town Hall
END:VEVENT
BEGIN:VEVENT
DTSTART;TZID=UTC:20290312T183000
DTEND;TZID=UTC:20290312T200000
DTSTAMP:20260421T171213
CREATED:20251014T063007Z
LAST-MODIFIED:20250812T184758Z
UID:10000792-1868034600-1868040000@townofnecedah.com
SUMMARY:Town Board Meeting
DESCRIPTION:
URL:https://townofnecedah.com/events/town-board-meeting-2/2029-03-12/
LOCATION:Necedah Town Hall
END:VEVENT
BEGIN:VEVENT
DTSTART;TZID=UTC:20290409T183000
DTEND;TZID=UTC:20290409T200000
DTSTAMP:20260421T171213
CREATED:20251014T063007Z
LAST-MODIFIED:20250812T184758Z
UID:10000793-1870453800-1870459200@townofnecedah.com
SUMMARY:Town Board Meeting
DESCRIPTION:
URL:https://townofnecedah.com/events/town-board-meeting-2/2029-04-09/
LOCATION:Necedah Town Hall
END:VEVENT
BEGIN:VEVENT
DTSTART;TZID=UTC:20290514T183000
DTEND;TZID=UTC:20290514T200000
DTSTAMP:20260421T171213
CREATED:20251014T063007Z
LAST-MODIFIED:20250812T184758Z
UID:10000794-1873477800-1873483200@townofnecedah.com
SUMMARY:Town Board Meeting
DESCRIPTION:
URL:https://townofnecedah.com/events/town-board-meeting-2/2029-05-14/
LOCATION:Necedah Town Hall
END:VEVENT
BEGIN:VEVENT
DTSTART;TZID=UTC:20290611T183000
DTEND;TZID=UTC:20290611T200000
DTSTAMP:20260421T171213
CREATED:20251014T063007Z
LAST-MODIFIED:20250812T184758Z
UID:10000795-1875897000-1875902400@townofnecedah.com
SUMMARY:Town Board Meeting
DESCRIPTION:
URL:https://townofnecedah.com/events/town-board-meeting-2/2029-06-11/
LOCATION:Necedah Town Hall
END:VEVENT
BEGIN:VEVENT
DTSTART;TZID=UTC:20290709T183000
DTEND;TZID=UTC:20290709T200000
DTSTAMP:20260421T171213
CREATED:20251014T063007Z
LAST-MODIFIED:20250812T184758Z
UID:10000796-1878316200-1878321600@townofnecedah.com
SUMMARY:Town Board Meeting
DESCRIPTION:
URL:https://townofnecedah.com/events/town-board-meeting-2/2029-07-09/
LOCATION:Necedah Town Hall
END:VEVENT
BEGIN:VEVENT
DTSTART;TZID=UTC:20290813T183000
DTEND;TZID=UTC:20290813T200000
DTSTAMP:20260421T171213
CREATED:20251014T063007Z
LAST-MODIFIED:20250812T184758Z
UID:10000797-1881340200-1881345600@townofnecedah.com
SUMMARY:Town Board Meeting
DESCRIPTION:
URL:https://townofnecedah.com/events/town-board-meeting-2/2029-08-13/
LOCATION:Necedah Town Hall
END:VEVENT
BEGIN:VEVENT
DTSTART;TZID=UTC:20290910T183000
DTEND;TZID=UTC:20290910T200000
DTSTAMP:20260421T171213
CREATED:20251014T063007Z
LAST-MODIFIED:20250812T184758Z
UID:10000798-1883759400-1883764800@townofnecedah.com
SUMMARY:Town Board Meeting
DESCRIPTION:
URL:https://townofnecedah.com/events/town-board-meeting-2/2029-09-10/
LOCATION:Necedah Town Hall
END:VEVENT
BEGIN:VEVENT
DTSTART;TZID=UTC:20291008T183000
DTEND;TZID=UTC:20291008T200000
DTSTAMP:20260421T171213
CREATED:20251014T063007Z
LAST-MODIFIED:20250812T184758Z
UID:10000799-1886178600-1886184000@townofnecedah.com
SUMMARY:Town Board Meeting
DESCRIPTION:
URL:https://townofnecedah.com/events/town-board-meeting-2/2029-10-08/
LOCATION:Necedah Town Hall
END:VEVENT
END:VCALENDAR