BEGIN:VCALENDAR
VERSION:2.0
PRODID:-//Town Of Necedah - ECPv6.8.2.1//NONSGML v1.0//EN
CALSCALE:GREGORIAN
METHOD:PUBLISH
X-WR-CALNAME:Town Of Necedah
X-ORIGINAL-URL:https://townofnecedah.com
X-WR-CALDESC:Events for Town Of Necedah
REFRESH-INTERVAL;VALUE=DURATION:PT1H
X-Robots-Tag:noindex
X-PUBLISHED-TTL:PT1H
BEGIN:VTIMEZONE
TZID:UTC
BEGIN:STANDARD
TZOFFSETFROM:+0000
TZOFFSETTO:+0000
TZNAME:UTC
DTSTART:20280101T000000
END:STANDARD
END:VTIMEZONE
BEGIN:VEVENT
DTSTART;TZID=UTC:20280610T090000
DTEND;TZID=UTC:20280610T120000
DTSTAMP:20260422T225023
CREATED:20240924T225340Z
LAST-MODIFIED:20240924T225340Z
UID:10000725-1844240400-1844251200@townofnecedah.com
SUMMARY:Town of Necedah Recycling
DESCRIPTION:
URL:https://townofnecedah.com/events/town-of-necedah-recycling/2028-06-10/
LOCATION:Town of Necedah Garage\, W6130 25th St\, Necedah\, WI\, 54646\, United States
END:VEVENT
BEGIN:VEVENT
DTSTART;TZID=UTC:20280612T183000
DTEND;TZID=UTC:20280612T200000
DTSTAMP:20260422T225023
CREATED:20251014T063007Z
LAST-MODIFIED:20250812T184758Z
UID:10000783-1844447400-1844452800@townofnecedah.com
SUMMARY:Town Board Meeting
DESCRIPTION:
URL:https://townofnecedah.com/events/town-board-meeting-2/2028-06-12/
LOCATION:Necedah Town Hall
END:VEVENT
BEGIN:VEVENT
DTSTART;TZID=UTC:20280628T150000
DTEND;TZID=UTC:20280628T180000
DTSTAMP:20260422T225023
CREATED:20240924T223200Z
LAST-MODIFIED:20240924T225611Z
UID:10000665-1845817200-1845828000@townofnecedah.com
SUMMARY:Town of Necedah Recycling
DESCRIPTION:
URL:https://townofnecedah.com/events/town-of-necedah-recycling-2/2028-06-28/
LOCATION:Town of Necedah Garage\, W6130 25th St\, Necedah\, WI\, 54646\, United States
END:VEVENT
END:VCALENDAR