BEGIN:VCALENDAR
VERSION:2.0
PRODID:-//Town Of Necedah - ECPv6.8.2.1//NONSGML v1.0//EN
CALSCALE:GREGORIAN
METHOD:PUBLISH
X-ORIGINAL-URL:https://townofnecedah.com
X-WR-CALDESC:Events for Town Of Necedah
REFRESH-INTERVAL;VALUE=DURATION:PT1H
X-Robots-Tag:noindex
X-PUBLISHED-TTL:PT1H
BEGIN:VTIMEZONE
TZID:UTC
BEGIN:STANDARD
TZOFFSETFROM:+0000
TZOFFSETTO:+0000
TZNAME:UTC
DTSTART:20280101T000000
END:STANDARD
END:VTIMEZONE
BEGIN:VEVENT
DTSTART;TZID=UTC:20280311T090000
DTEND;TZID=UTC:20280311T120000
DTSTAMP:20260422T185026
CREATED:20240924T225340Z
LAST-MODIFIED:20240924T225340Z
UID:10000722-1836378000-1836388800@townofnecedah.com
SUMMARY:Town of Necedah Recycling
DESCRIPTION:
URL:https://townofnecedah.com/events/town-of-necedah-recycling/2028-03-11/
LOCATION:Town of Necedah Garage\, W6130 25th St\, Necedah\, WI\, 54646\, United States
END:VEVENT
BEGIN:VEVENT
DTSTART;TZID=UTC:20280313T183000
DTEND;TZID=UTC:20280313T200000
DTSTAMP:20260422T185026
CREATED:20251014T063007Z
LAST-MODIFIED:20250812T184758Z
UID:10000780-1836585000-1836590400@townofnecedah.com
SUMMARY:Town Board Meeting
DESCRIPTION:
URL:https://townofnecedah.com/events/town-board-meeting-2/2028-03-13/
LOCATION:Necedah Town Hall
END:VEVENT
BEGIN:VEVENT
DTSTART;TZID=UTC:20280322T150000
DTEND;TZID=UTC:20280322T180000
DTSTAMP:20260422T185026
CREATED:20240924T223200Z
LAST-MODIFIED:20240924T225611Z
UID:10000662-1837350000-1837360800@townofnecedah.com
SUMMARY:Town of Necedah Recycling
DESCRIPTION:
URL:https://townofnecedah.com/events/town-of-necedah-recycling-2/2028-03-22/
LOCATION:Town of Necedah Garage\, W6130 25th St\, Necedah\, WI\, 54646\, United States
END:VEVENT
END:VCALENDAR