BEGIN:VCALENDAR
VERSION:2.0
PRODID:-//Town Of Necedah - ECPv6.8.2.1//NONSGML v1.0//EN
CALSCALE:GREGORIAN
METHOD:PUBLISH
X-WR-CALNAME:Town Of Necedah
X-ORIGINAL-URL:https://townofnecedah.com
X-WR-CALDESC:Events for Town Of Necedah
REFRESH-INTERVAL;VALUE=DURATION:PT1H
X-Robots-Tag:noindex
X-PUBLISHED-TTL:PT1H
BEGIN:VTIMEZONE
TZID:UTC
BEGIN:STANDARD
TZOFFSETFROM:+0000
TZOFFSETTO:+0000
TZNAME:UTC
DTSTART:20260101T000000
END:STANDARD
END:VTIMEZONE
BEGIN:VEVENT
DTSTART;TZID=UTC:20260504T190000
DTEND;TZID=UTC:20260504T210000
DTSTAMP:20260421T124213
CREATED:20260414T021841Z
LAST-MODIFIED:20260414T021841Z
UID:10000806-1777921200-1777928400@townofnecedah.com
SUMMARY:Town of Necedah Board of Review
DESCRIPTION:
URL:https://townofnecedah.com/events/town-of-necedah-board-of-review/
LOCATION:Necedah Town Hall
END:VEVENT
BEGIN:VEVENT
DTSTART;TZID=UTC:20260509T090000
DTEND;TZID=UTC:20260509T120000
DTSTAMP:20260421T124213
CREATED:20240924T225340Z
LAST-MODIFIED:20240924T225340Z
UID:10000700-1778317200-1778328000@townofnecedah.com
SUMMARY:Town of Necedah Recycling
DESCRIPTION:
URL:https://townofnecedah.com/events/town-of-necedah-recycling/2026-05-09/
LOCATION:Town of Necedah Garage\, W6130 25th St\, Necedah\, WI\, 54646\, United States
END:VEVENT
BEGIN:VEVENT
DTSTART;TZID=UTC:20260511T183000
DTEND;TZID=UTC:20260511T200000
DTSTAMP:20260421T124213
CREATED:20251014T063007Z
LAST-MODIFIED:20250812T184758Z
UID:10000758-1778524200-1778529600@townofnecedah.com
SUMMARY:Town Board Meeting
DESCRIPTION:
URL:https://townofnecedah.com/events/town-board-meeting-2/2026-05-11/
LOCATION:Necedah Town Hall
END:VEVENT
BEGIN:VEVENT
DTSTART;TZID=UTC:20260527T150000
DTEND;TZID=UTC:20260527T180000
DTSTAMP:20260421T124213
CREATED:20240924T223200Z
LAST-MODIFIED:20240924T225611Z
UID:10000640-1779894000-1779904800@townofnecedah.com
SUMMARY:Town of Necedah Recycling
DESCRIPTION:
URL:https://townofnecedah.com/events/town-of-necedah-recycling-2/2026-05-27/
LOCATION:Town of Necedah Garage\, W6130 25th St\, Necedah\, WI\, 54646\, United States
END:VEVENT
END:VCALENDAR