BEGIN:VCALENDAR
VERSION:2.0
PRODID:-//Town Of Necedah - ECPv6.8.2.1//NONSGML v1.0//EN
CALSCALE:GREGORIAN
METHOD:PUBLISH
X-WR-CALNAME:Town Of Necedah
X-ORIGINAL-URL:https://townofnecedah.com
X-WR-CALDESC:Events for Town Of Necedah
REFRESH-INTERVAL;VALUE=DURATION:PT1H
X-Robots-Tag:noindex
X-PUBLISHED-TTL:PT1H
BEGIN:VTIMEZONE
TZID:UTC
BEGIN:STANDARD
TZOFFSETFROM:+0000
TZOFFSETTO:+0000
TZNAME:UTC
DTSTART:20250101T000000
END:STANDARD
END:VTIMEZONE
BEGIN:VEVENT
DTSTART;TZID=UTC:20250414T183000
DTEND;TZID=UTC:20250414T200000
DTSTAMP:20260421T172855
CREATED:20251014T063007Z
LAST-MODIFIED:20250812T184758Z
UID:10000745-1744655400-1744660800@townofnecedah.com
SUMMARY:Town Board Meeting
DESCRIPTION:
URL:https://townofnecedah.com/events/town-board-meeting-2/2025-04-14/
LOCATION:Necedah Town Hall
END:VEVENT
END:VCALENDAR